﻿BEGIN:VCALENDAR
VERSION:2.0
PRODID:-//Fira Llibre de València - ECPv6.15.20//NONSGML v1.0//EN
CALSCALE:GREGORIAN
METHOD:PUBLISH
X-ORIGINAL-URL:https://firallibre.com
X-WR-CALDESC:Esdeveniments per Fira Llibre de València
REFRESH-INTERVAL;VALUE=DURATION:PT1H
X-Robots-Tag:noindex
X-PUBLISHED-TTL:PT1H
BEGIN:VTIMEZONE
TZID:Europe/Madrid
BEGIN:DAYLIGHT
TZOFFSETFROM:+0100
TZOFFSETTO:+0200
TZNAME:CEST
DTSTART:20250330T010000
END:DAYLIGHT
BEGIN:STANDARD
TZOFFSETFROM:+0200
TZOFFSETTO:+0100
TZNAME:CET
DTSTART:20251026T010000
END:STANDARD
BEGIN:DAYLIGHT
TZOFFSETFROM:+0100
TZOFFSETTO:+0200
TZNAME:CEST
DTSTART:20260329T010000
END:DAYLIGHT
BEGIN:STANDARD
TZOFFSETFROM:+0200
TZOFFSETTO:+0100
TZNAME:CET
DTSTART:20261025T010000
END:STANDARD
BEGIN:DAYLIGHT
TZOFFSETFROM:+0100
TZOFFSETTO:+0200
TZNAME:CEST
DTSTART:20270328T010000
END:DAYLIGHT
BEGIN:STANDARD
TZOFFSETFROM:+0200
TZOFFSETTO:+0100
TZNAME:CET
DTSTART:20271031T010000
END:STANDARD
END:VTIMEZONE
BEGIN:VEVENT
DTSTART;TZID=Europe/Madrid:20260430T170000
DTEND;TZID=Europe/Madrid:20260430T183000
DTSTAMP:20260423T101315
CREATED:20260410T122303Z
LAST-MODIFIED:20260410T122303Z
UID:10011317-1777568400-1777573800@firallibre.com
SUMMARY:Begoña Valero
DESCRIPTION:
URL:https://firallibre.com/event/begona-valero-9/
CATEGORIES:Signatures
END:VEVENT
BEGIN:VEVENT
DTSTART;TZID=Europe/Madrid:20260430T170000
DTEND;TZID=Europe/Madrid:20260430T183000
DTSTAMP:20260423T101315
CREATED:20260423T073348Z
LAST-MODIFIED:20260423T073348Z
UID:10012967-1777568400-1777573800@firallibre.com
SUMMARY:Rodrigo Paniagua
DESCRIPTION:
URL:https://firallibre.com/event/rodrigo-paniagua/
CATEGORIES:Signatures
END:VEVENT
BEGIN:VEVENT
DTSTART;TZID=Europe/Madrid:20260430T170000
DTEND;TZID=Europe/Madrid:20260430T183000
DTSTAMP:20260423T101315
CREATED:20260423T073350Z
LAST-MODIFIED:20260423T073350Z
UID:10012968-1777568400-1777573800@firallibre.com
SUMMARY:Alba Saenc
DESCRIPTION:
URL:https://firallibre.com/event/alba-saenc/
CATEGORIES:Signatures
END:VEVENT
BEGIN:VEVENT
DTSTART;TZID=Europe/Madrid:20260430T170000
DTEND;TZID=Europe/Madrid:20260430T184500
DTSTAMP:20260423T101315
CREATED:20260423T073400Z
LAST-MODIFIED:20260423T073400Z
UID:10012973-1777568400-1777574700@firallibre.com
SUMMARY:Carlos H. Sacristán
DESCRIPTION:
URL:https://firallibre.com/event/carlos-h-sacristan-3/
CATEGORIES:Signatures
END:VEVENT
BEGIN:VEVENT
DTSTART;TZID=Europe/Madrid:20260430T170000
DTEND;TZID=Europe/Madrid:20260430T190000
DTSTAMP:20260423T101315
CREATED:20260410T110818Z
LAST-MODIFIED:20260410T110818Z
UID:10009954-1777568400-1777575600@firallibre.com
SUMMARY:Emilio Joaquín Izquierdo
DESCRIPTION:
URL:https://firallibre.com/event/emilio-joaquin-izquierdo/
CATEGORIES:Signatures
END:VEVENT
BEGIN:VEVENT
DTSTART;TZID=Europe/Madrid:20260430T170000
DTEND;TZID=Europe/Madrid:20260430T190000
DTSTAMP:20260423T101315
CREATED:20260410T110829Z
LAST-MODIFIED:20260410T110829Z
UID:10009955-1777568400-1777575600@firallibre.com
SUMMARY:Cristina Vicent
DESCRIPTION:
URL:https://firallibre.com/event/cristina-vicent/
CATEGORIES:Signatures
END:VEVENT
BEGIN:VEVENT
DTSTART;TZID=Europe/Madrid:20260430T170000
DTEND;TZID=Europe/Madrid:20260430T190000
DTSTAMP:20260423T101315
CREATED:20260410T121440Z
LAST-MODIFIED:20260410T121440Z
UID:10010972-1777568400-1777575600@firallibre.com
SUMMARY:Eloy Cobera
DESCRIPTION:
URL:https://firallibre.com/event/eloy-cobera/
CATEGORIES:Signatures
END:VEVENT
BEGIN:VEVENT
DTSTART;TZID=Europe/Madrid:20260430T170000
DTEND;TZID=Europe/Madrid:20260430T190000
DTSTAMP:20260423T101316
CREATED:20260410T121849Z
LAST-MODIFIED:20260410T121851Z
UID:10011048-1777568400-1777575600@firallibre.com
SUMMARY:Aida Boix Gregori
DESCRIPTION:
URL:https://firallibre.com/event/aida-boix-gregori/
CATEGORIES:Signatures
END:VEVENT
BEGIN:VEVENT
DTSTART;TZID=Europe/Madrid:20260430T170000
DTEND;TZID=Europe/Madrid:20260430T190000
DTSTAMP:20260423T101316
CREATED:20260410T122720Z
LAST-MODIFIED:20260410T122724Z
UID:10011614-1777568400-1777575600@firallibre.com
SUMMARY:Cristóbal Aguilar
DESCRIPTION:
URL:https://firallibre.com/event/cristobal-aguilar/
CATEGORIES:Signatures
END:VEVENT
BEGIN:VEVENT
DTSTART;TZID=Europe/Madrid:20260430T170000
DTEND;TZID=Europe/Madrid:20260430T190000
DTSTAMP:20260423T101316
CREATED:20260410T122740Z
LAST-MODIFIED:20260410T122740Z
UID:10011628-1777568400-1777575600@firallibre.com
SUMMARY:Antonio Arbeloa
DESCRIPTION:
URL:https://firallibre.com/event/antonio-arbeloa/
CATEGORIES:Signatures
END:VEVENT
BEGIN:VEVENT
DTSTART;TZID=Europe/Madrid:20260430T170000
DTEND;TZID=Europe/Madrid:20260430T190000
DTSTAMP:20260423T101316
CREATED:20260410T122740Z
LAST-MODIFIED:20260410T122740Z
UID:10011629-1777568400-1777575600@firallibre.com
SUMMARY:Raquel M. Roca
DESCRIPTION:
URL:https://firallibre.com/event/raquel-m-roca-7/
CATEGORIES:Signatures
END:VEVENT
BEGIN:VEVENT
DTSTART;TZID=Europe/Madrid:20260430T170000
DTEND;TZID=Europe/Madrid:20260430T193000
DTSTAMP:20260423T101316
CREATED:20260410T104034Z
LAST-MODIFIED:20260410T104034Z
UID:10009555-1777568400-1777577400@firallibre.com
SUMMARY:Abel Rincón Escudero
DESCRIPTION:
URL:https://firallibre.com/event/abel-rincon-escudero-3/
CATEGORIES:Signatures
END:VEVENT
BEGIN:VEVENT
DTSTART;TZID=Europe/Madrid:20260430T170000
DTEND;TZID=Europe/Madrid:20260430T193000
DTSTAMP:20260423T101316
CREATED:20260410T121441Z
LAST-MODIFIED:20260410T121441Z
UID:10010973-1777568400-1777577400@firallibre.com
SUMMARY:Esperanza Luque
DESCRIPTION:
URL:https://firallibre.com/event/esperanza-luque-3/
CATEGORIES:Signatures
END:VEVENT
BEGIN:VEVENT
DTSTART;TZID=Europe/Madrid:20260430T170000
DTEND;TZID=Europe/Madrid:20260430T200000
DTSTAMP:20260423T101316
CREATED:20260410T111038Z
LAST-MODIFIED:20260410T111038Z
UID:10010022-1777568400-1777579200@firallibre.com
SUMMARY:Susana Beatriz Carias Zabatel
DESCRIPTION:
URL:https://firallibre.com/event/susana-beatriz-carias-zabatel/
CATEGORIES:Signatures
END:VEVENT
BEGIN:VEVENT
DTSTART;TZID=Europe/Madrid:20260430T170000
DTEND;TZID=Europe/Madrid:20260430T200000
DTSTAMP:20260423T101316
CREATED:20260410T111648Z
LAST-MODIFIED:20260410T111651Z
UID:10010500-1777568400-1777579200@firallibre.com
SUMMARY:Gregorio Muelas
DESCRIPTION:
URL:https://firallibre.com/event/gregorio-muelas-5/
CATEGORIES:Signatures
END:VEVENT
BEGIN:VEVENT
DTSTART;TZID=Europe/Madrid:20260430T170000
DTEND;TZID=Europe/Madrid:20260430T200000
DTSTAMP:20260423T101316
CREATED:20260410T121018Z
LAST-MODIFIED:20260410T121018Z
UID:10010885-1777568400-1777579200@firallibre.com
SUMMARY:Dra. Consuelo Borrás
DESCRIPTION:
URL:https://firallibre.com/event/dra-consuelo-borras/
CATEGORIES:Signatures
END:VEVENT
BEGIN:VEVENT
DTSTART;TZID=Europe/Madrid:20260430T170000
DTEND;TZID=Europe/Madrid:20260430T200000
DTSTAMP:20260423T101316
CREATED:20260410T121449Z
LAST-MODIFIED:20260410T121449Z
UID:10010974-1777568400-1777579200@firallibre.com
SUMMARY:María Villamayor
DESCRIPTION:
URL:https://firallibre.com/event/maria-villamayor-11/
CATEGORIES:Signatures
END:VEVENT
BEGIN:VEVENT
DTSTART;TZID=Europe/Madrid:20260430T170000
DTEND;TZID=Europe/Madrid:20260430T200000
DTSTAMP:20260423T101316
CREATED:20260410T121818Z
LAST-MODIFIED:20260410T121818Z
UID:10011025-1777568400-1777579200@firallibre.com
SUMMARY:Laura Boranart
DESCRIPTION:
URL:https://firallibre.com/event/laura-boranart/
CATEGORIES:Signatures
END:VEVENT
BEGIN:VEVENT
DTSTART;TZID=Europe/Madrid:20260430T170000
DTEND;TZID=Europe/Madrid:20260430T200000
DTSTAMP:20260423T101316
CREATED:20260410T124116Z
LAST-MODIFIED:20260410T124116Z
UID:10012013-1777568400-1777579200@firallibre.com
SUMMARY:Nicolás Estévez
DESCRIPTION:
URL:https://firallibre.com/event/nicolas-estevez-2/
CATEGORIES:Signatures
END:VEVENT
BEGIN:VEVENT
DTSTART;TZID=Europe/Madrid:20260430T170000
DTEND;TZID=Europe/Madrid:20260430T203000
DTSTAMP:20260423T101316
CREATED:20260410T105008Z
LAST-MODIFIED:20260410T105008Z
UID:10009759-1777568400-1777581000@firallibre.com
SUMMARY:Francisco López Porcal
DESCRIPTION:
URL:https://firallibre.com/event/francisco-lopez-porcal-4/
CATEGORIES:Signatures
END:VEVENT
BEGIN:VEVENT
DTSTART;TZID=Europe/Madrid:20260430T170000
DTEND;TZID=Europe/Madrid:20260430T203000
DTSTAMP:20260423T101316
CREATED:20260410T105116Z
LAST-MODIFIED:20260410T105116Z
UID:10009760-1777568400-1777581000@firallibre.com
SUMMARY:Bárbara Servan
DESCRIPTION:
URL:https://firallibre.com/event/barbara-servan/
CATEGORIES:Signatures
END:VEVENT
BEGIN:VEVENT
DTSTART;TZID=Europe/Madrid:20260430T170000
DTEND;TZID=Europe/Madrid:20260430T203000
DTSTAMP:20260423T101316
CREATED:20260410T105117Z
LAST-MODIFIED:20260410T105117Z
UID:10009761-1777568400-1777581000@firallibre.com
SUMMARY:Elsa Moreno
DESCRIPTION:
URL:https://firallibre.com/event/elsa-moreno-2/
CATEGORIES:Signatures
END:VEVENT
BEGIN:VEVENT
DTSTART;TZID=Europe/Madrid:20260430T170000
DTEND;TZID=Europe/Madrid:20260430T203000
DTSTAMP:20260423T101316
CREATED:20260410T105832Z
LAST-MODIFIED:20260410T105832Z
UID:10009831-1777568400-1777581000@firallibre.com
SUMMARY:Marisa Pinta
DESCRIPTION:
URL:https://firallibre.com/event/marisa-pinta-4/
CATEGORIES:Signatures
END:VEVENT
BEGIN:VEVENT
DTSTART;TZID=Europe/Madrid:20260430T170000
DTEND;TZID=Europe/Madrid:20260430T203000
DTSTAMP:20260423T101316
CREATED:20260410T105833Z
LAST-MODIFIED:20260410T105833Z
UID:10009832-1777568400-1777581000@firallibre.com
SUMMARY:José Palacios
DESCRIPTION:
URL:https://firallibre.com/event/jose-palacios/
CATEGORIES:Signatures
END:VEVENT
BEGIN:VEVENT
DTSTART;TZID=Europe/Madrid:20260430T170000
DTEND;TZID=Europe/Madrid:20260430T203000
DTSTAMP:20260423T101316
CREATED:20260410T122000Z
LAST-MODIFIED:20260410T122000Z
UID:10011062-1777568400-1777581000@firallibre.com
SUMMARY:Ana Capsir
DESCRIPTION:
URL:https://firallibre.com/event/ana-capsir/
CATEGORIES:Signatures
END:VEVENT
BEGIN:VEVENT
DTSTART;TZID=Europe/Madrid:20260430T170000
DTEND;TZID=Europe/Madrid:20260430T203000
DTSTAMP:20260423T101316
CREATED:20260410T122001Z
LAST-MODIFIED:20260410T122001Z
UID:10011063-1777568400-1777581000@firallibre.com
SUMMARY:Mikel Gerendiain
DESCRIPTION:
URL:https://firallibre.com/event/mikel-gerendiain/
CATEGORIES:Signatures
END:VEVENT
BEGIN:VEVENT
DTSTART;TZID=Europe/Madrid:20260430T170000
DTEND;TZID=Europe/Madrid:20260430T203000
DTSTAMP:20260423T101316
CREATED:20260410T122148Z
LAST-MODIFIED:20260410T122148Z
UID:10011136-1777568400-1777581000@firallibre.com
SUMMARY:Jose Antonio Dominguez
DESCRIPTION:
URL:https://firallibre.com/event/jose-antonio-dominguez-5/
CATEGORIES:Signatures
END:VEVENT
BEGIN:VEVENT
DTSTART;TZID=Europe/Madrid:20260430T170000
DTEND;TZID=Europe/Madrid:20260430T203000
DTSTAMP:20260423T101316
CREATED:20260410T124115Z
LAST-MODIFIED:20260410T124115Z
UID:10012012-1777568400-1777581000@firallibre.com
SUMMARY:David Salvador
DESCRIPTION:
URL:https://firallibre.com/event/david-salvador-5/
CATEGORIES:Signatures
END:VEVENT
BEGIN:VEVENT
DTSTART;TZID=Europe/Madrid:20260430T170000
DTEND;TZID=Europe/Madrid:20260430T210000
DTSTAMP:20260423T101316
CREATED:20260410T104342Z
LAST-MODIFIED:20260410T104342Z
UID:10009621-1777568400-1777582800@firallibre.com
SUMMARY:Eva Ruano
DESCRIPTION:
URL:https://firallibre.com/event/eva-ruano-4/
CATEGORIES:Signatures
END:VEVENT
BEGIN:VEVENT
DTSTART;TZID=Europe/Madrid:20260430T170000
DTEND;TZID=Europe/Madrid:20260430T210000
DTSTAMP:20260423T101316
CREATED:20260410T104342Z
LAST-MODIFIED:20260410T104342Z
UID:10009622-1777568400-1777582800@firallibre.com
SUMMARY:Alejandra Aznar
DESCRIPTION:
URL:https://firallibre.com/event/alejandra-aznar/
CATEGORIES:Signatures
END:VEVENT
END:VCALENDAR