﻿BEGIN:VCALENDAR
VERSION:2.0
PRODID:-//Fira Llibre de València - ECPv6.15.20//NONSGML v1.0//EN
CALSCALE:GREGORIAN
METHOD:PUBLISH
X-WR-CALNAME:Fira Llibre de València
X-ORIGINAL-URL:https://firallibre.com
X-WR-CALDESC:Esdeveniments per Fira Llibre de València
REFRESH-INTERVAL;VALUE=DURATION:PT1H
X-Robots-Tag:noindex
X-PUBLISHED-TTL:PT1H
BEGIN:VTIMEZONE
TZID:Europe/Madrid
BEGIN:DAYLIGHT
TZOFFSETFROM:+0100
TZOFFSETTO:+0200
TZNAME:CEST
DTSTART:20250330T010000
END:DAYLIGHT
BEGIN:STANDARD
TZOFFSETFROM:+0200
TZOFFSETTO:+0100
TZNAME:CET
DTSTART:20251026T010000
END:STANDARD
BEGIN:DAYLIGHT
TZOFFSETFROM:+0100
TZOFFSETTO:+0200
TZNAME:CEST
DTSTART:20260329T010000
END:DAYLIGHT
BEGIN:STANDARD
TZOFFSETFROM:+0200
TZOFFSETTO:+0100
TZNAME:CET
DTSTART:20261025T010000
END:STANDARD
BEGIN:DAYLIGHT
TZOFFSETFROM:+0100
TZOFFSETTO:+0200
TZNAME:CEST
DTSTART:20270328T010000
END:DAYLIGHT
BEGIN:STANDARD
TZOFFSETFROM:+0200
TZOFFSETTO:+0100
TZNAME:CET
DTSTART:20271031T010000
END:STANDARD
END:VTIMEZONE
BEGIN:VEVENT
DTSTART;TZID=Europe/Madrid:20260430T180000
DTEND;TZID=Europe/Madrid:20260430T190000
DTSTAMP:20260419T150613
CREATED:20260410T122610Z
LAST-MODIFIED:20260410T122610Z
UID:10011562-1777572000-1777575600@firallibre.com
SUMMARY:Jorge Vidal
DESCRIPTION:
URL:https://firallibre.com/event/jorge-vidal/
CATEGORIES:Signatures
END:VEVENT
BEGIN:VEVENT
DTSTART;TZID=Europe/Madrid:20260501T170000
DTEND;TZID=Europe/Madrid:20260501T180000
DTSTAMP:20260419T150613
CREATED:20260410T122549Z
LAST-MODIFIED:20260410T122549Z
UID:10011547-1777654800-1777658400@firallibre.com
SUMMARY:Athenea De Dios
DESCRIPTION:
URL:https://firallibre.com/event/athenea-de-dios/
CATEGORIES:Signatures
END:VEVENT
BEGIN:VEVENT
DTSTART;TZID=Europe/Madrid:20260501T180000
DTEND;TZID=Europe/Madrid:20260501T190000
DTSTAMP:20260419T150613
CREATED:20260410T122549Z
LAST-MODIFIED:20260410T122549Z
UID:10011548-1777658400-1777662000@firallibre.com
SUMMARY:Irene Vera
DESCRIPTION:
URL:https://firallibre.com/event/irene-vera/
CATEGORIES:Signatures
END:VEVENT
BEGIN:VEVENT
DTSTART;TZID=Europe/Madrid:20260501T190000
DTEND;TZID=Europe/Madrid:20260501T200000
DTSTAMP:20260419T150613
CREATED:20260410T122550Z
LAST-MODIFIED:20260410T122550Z
UID:10011549-1777662000-1777665600@firallibre.com
SUMMARY:Emilio A. Vera
DESCRIPTION:
URL:https://firallibre.com/event/emilio-a-vera-2/
CATEGORIES:Signatures
END:VEVENT
BEGIN:VEVENT
DTSTART;TZID=Europe/Madrid:20260502T120000
DTEND;TZID=Europe/Madrid:20260502T130000
DTSTAMP:20260419T150613
CREATED:20260410T122554Z
LAST-MODIFIED:20260410T122600Z
UID:10011550-1777723200-1777726800@firallibre.com
SUMMARY:Victoria Martin
DESCRIPTION:
URL:https://firallibre.com/event/victoria-martin/
CATEGORIES:Signatures
END:VEVENT
BEGIN:VEVENT
DTSTART;TZID=Europe/Madrid:20260502T130000
DTEND;TZID=Europe/Madrid:20260502T140000
DTSTAMP:20260419T150613
CREATED:20260410T122554Z
LAST-MODIFIED:20260410T122600Z
UID:10011551-1777726800-1777730400@firallibre.com
SUMMARY:Carla Pérez Frías
DESCRIPTION:
URL:https://firallibre.com/event/carla-perez-frias-2/
CATEGORIES:Signatures
END:VEVENT
BEGIN:VEVENT
DTSTART;TZID=Europe/Madrid:20260502T170000
DTEND;TZID=Europe/Madrid:20260502T190000
DTSTAMP:20260419T150613
CREATED:20260410T122555Z
LAST-MODIFIED:20260410T122600Z
UID:10011552-1777741200-1777748400@firallibre.com
SUMMARY:Pol Giménez
DESCRIPTION:
URL:https://firallibre.com/event/pol-gimenez/
CATEGORIES:Signatures
END:VEVENT
BEGIN:VEVENT
DTSTART;TZID=Europe/Madrid:20260502T190000
DTEND;TZID=Europe/Madrid:20260502T210000
DTSTAMP:20260419T150613
CREATED:20260410T122555Z
LAST-MODIFIED:20260410T122601Z
UID:10011553-1777748400-1777755600@firallibre.com
SUMMARY:Bautista Díaz
DESCRIPTION:
URL:https://firallibre.com/event/bautista-diaz/
CATEGORIES:Signatures
END:VEVENT
BEGIN:VEVENT
DTSTART;TZID=Europe/Madrid:20260503T110000
DTEND;TZID=Europe/Madrid:20260503T130000
DTSTAMP:20260419T150614
CREATED:20260410T122555Z
LAST-MODIFIED:20260410T122601Z
UID:10011554-1777806000-1777813200@firallibre.com
SUMMARY:Paty Liñán
DESCRIPTION:
URL:https://firallibre.com/event/paty-linan/
CATEGORIES:Signatures
END:VEVENT
BEGIN:VEVENT
DTSTART;TZID=Europe/Madrid:20260503T170000
DTEND;TZID=Europe/Madrid:20260503T190000
DTSTAMP:20260419T150614
CREATED:20260410T122602Z
LAST-MODIFIED:20260410T122602Z
UID:10011555-1777827600-1777834800@firallibre.com
SUMMARY:Ana Rizo
DESCRIPTION:
URL:https://firallibre.com/event/ana-rizo/
CATEGORIES:Signatures
END:VEVENT
BEGIN:VEVENT
DTSTART;TZID=Europe/Madrid:20260509T110000
DTEND;TZID=Europe/Madrid:20260509T130000
DTSTAMP:20260419T150614
CREATED:20260410T122549Z
LAST-MODIFIED:20260410T122549Z
UID:10011546-1778324400-1778331600@firallibre.com
SUMMARY:Estrella Terrón
DESCRIPTION:
URL:https://firallibre.com/event/estrella-terron-2/
CATEGORIES:Signatures
END:VEVENT
BEGIN:VEVENT
DTSTART;TZID=Europe/Madrid:20260509T130000
DTEND;TZID=Europe/Madrid:20260509T140000
DTSTAMP:20260419T150614
CREATED:20260410T122603Z
LAST-MODIFIED:20260410T122603Z
UID:10011556-1778331600-1778335200@firallibre.com
SUMMARY:Nuria Martínez
DESCRIPTION:
URL:https://firallibre.com/event/nuria-martinez-3/
CATEGORIES:Signatures
END:VEVENT
BEGIN:VEVENT
DTSTART;TZID=Europe/Madrid:20260509T170000
DTEND;TZID=Europe/Madrid:20260509T190000
DTSTAMP:20260419T150614
CREATED:20260410T122603Z
LAST-MODIFIED:20260410T122603Z
UID:10011557-1778346000-1778353200@firallibre.com
SUMMARY:Estrella Terrón
DESCRIPTION:
URL:https://firallibre.com/event/estrella-terron-3/
CATEGORIES:Signatures
END:VEVENT
BEGIN:VEVENT
DTSTART;TZID=Europe/Madrid:20260509T190000
DTEND;TZID=Europe/Madrid:20260509T210000
DTSTAMP:20260419T150614
CREATED:20260410T122603Z
LAST-MODIFIED:20260410T122603Z
UID:10011558-1778353200-1778360400@firallibre.com
SUMMARY:Luna Moreno
DESCRIPTION:
URL:https://firallibre.com/event/luna-moreno/
CATEGORIES:Signatures
END:VEVENT
BEGIN:VEVENT
DTSTART;TZID=Europe/Madrid:20260510T110000
DTEND;TZID=Europe/Madrid:20260510T130000
DTSTAMP:20260419T150614
CREATED:20260410T122604Z
LAST-MODIFIED:20260410T122604Z
UID:10011559-1778410800-1778418000@firallibre.com
SUMMARY:Judith Rodríguez
DESCRIPTION:
URL:https://firallibre.com/event/judith-rodriguez/
CATEGORIES:Signatures
END:VEVENT
BEGIN:VEVENT
DTSTART;TZID=Europe/Madrid:20260510T130000
DTEND;TZID=Europe/Madrid:20260510T140000
DTSTAMP:20260419T150614
CREATED:20260410T122609Z
LAST-MODIFIED:20260410T122609Z
UID:10011560-1778418000-1778421600@firallibre.com
SUMMARY:Claudia Martín
DESCRIPTION:
URL:https://firallibre.com/event/claudia-martin/
CATEGORIES:Signatures
END:VEVENT
BEGIN:VEVENT
DTSTART;TZID=Europe/Madrid:20260510T170000
DTEND;TZID=Europe/Madrid:20260510T190000
DTSTAMP:20260419T150614
CREATED:20260410T122609Z
LAST-MODIFIED:20260410T122609Z
UID:10011561-1778432400-1778439600@firallibre.com
SUMMARY:Demi PRZ
DESCRIPTION:
URL:https://firallibre.com/event/demi-prz/
CATEGORIES:Signatures
END:VEVENT
END:VCALENDAR